BEGIN:VCALENDAR
VERSION:2.0
PRODID:-//Crowsnest Nordic Ski Club - ECPv6.15.17.1//NONSGML v1.0//EN
CALSCALE:GREGORIAN
METHOD:PUBLISH
X-ORIGINAL-URL:https://www.skicrowsnest.ca
X-WR-CALDESC:Events for Crowsnest Nordic Ski Club
REFRESH-INTERVAL;VALUE=DURATION:PT1H
X-Robots-Tag:noindex
X-PUBLISHED-TTL:PT1H
BEGIN:VTIMEZONE
TZID:America/Edmonton
BEGIN:DAYLIGHT
TZOFFSETFROM:-0700
TZOFFSETTO:-0600
TZNAME:MDT
DTSTART:20240310T090000
END:DAYLIGHT
BEGIN:STANDARD
TZOFFSETFROM:-0600
TZOFFSETTO:-0700
TZNAME:MST
DTSTART:20241103T080000
END:STANDARD
BEGIN:DAYLIGHT
TZOFFSETFROM:-0700
TZOFFSETTO:-0600
TZNAME:MDT
DTSTART:20250309T090000
END:DAYLIGHT
BEGIN:STANDARD
TZOFFSETFROM:-0600
TZOFFSETTO:-0700
TZNAME:MST
DTSTART:20251102T080000
END:STANDARD
BEGIN:DAYLIGHT
TZOFFSETFROM:-0700
TZOFFSETTO:-0600
TZNAME:MDT
DTSTART:20260308T090000
END:DAYLIGHT
BEGIN:STANDARD
TZOFFSETFROM:-0600
TZOFFSETTO:-0700
TZNAME:MST
DTSTART:20261101T080000
END:STANDARD
END:VTIMEZONE
BEGIN:VEVENT
DTSTART;TZID=America/Edmonton:20251213T100000
DTEND;TZID=America/Edmonton:20251213T120000
DTSTAMP:20260420T073924
CREATED:20251212T014620Z
LAST-MODIFIED:20251212T014620Z
UID:1964-1765620000-1765627200@www.skicrowsnest.ca
SUMMARY:BIATHLON ECOAIM TRY-OUT AND FUN RACE
DESCRIPTION:The Biathlon Ecoaim Try-out and Fun Race is a free\, public event that will be hosted on December 13th\, 2025\, at Allison-Chinook. \nIt is designed to give participants of all ages and skill levels a fun and inclusive introduction to biathlon\, which combines a sport skiing with rifle shooting. We encourage youth who have already registered with the club’s Learn to Ski Program 2025-2026 to attend this event. \nDate: Saturday\, December 13th from 10:00 am-noon at Allison-Chinook \nPurpose: To provide a fun and inclusive introduction to the sport of biathlon. \nFormat: Range Procedure\, Shooting\, Mini Race (Shooting and Skiing) \nExperience: No prior biathlon experience is necessary \nRegistration: Even though this is a free and public event\, we encourage you to register for better organize this event. \nREGISTER HERE !!! \nWeather Policy: The event will be cancelled if weather forecast is extreme or if snow conditions are unfavorable. Registered participants will  be notified by email if the event is cancelled
URL:https://www.skicrowsnest.ca/event/biathlon-ecoaim-try-out-and-fun-race/
CATEGORIES:Social event
END:VEVENT
END:VCALENDAR