BEGIN:VCALENDAR
VERSION:2.0
PRODID:-//Crowsnest Nordic Ski Club - ECPv6.15.17.1//NONSGML v1.0//EN
CALSCALE:GREGORIAN
METHOD:PUBLISH
X-ORIGINAL-URL:https://www.skicrowsnest.ca
X-WR-CALDESC:Events for Crowsnest Nordic Ski Club
REFRESH-INTERVAL;VALUE=DURATION:PT1H
X-Robots-Tag:noindex
X-PUBLISHED-TTL:PT1H
BEGIN:VTIMEZONE
TZID:America/Edmonton
BEGIN:DAYLIGHT
TZOFFSETFROM:-0700
TZOFFSETTO:-0600
TZNAME:MDT
DTSTART:20250309T090000
END:DAYLIGHT
BEGIN:STANDARD
TZOFFSETFROM:-0600
TZOFFSETTO:-0700
TZNAME:MST
DTSTART:20251102T080000
END:STANDARD
BEGIN:DAYLIGHT
TZOFFSETFROM:-0700
TZOFFSETTO:-0600
TZNAME:MDT
DTSTART:20260308T090000
END:DAYLIGHT
BEGIN:STANDARD
TZOFFSETFROM:-0600
TZOFFSETTO:-0700
TZNAME:MST
DTSTART:20261101T080000
END:STANDARD
BEGIN:DAYLIGHT
TZOFFSETFROM:-0700
TZOFFSETTO:-0600
TZNAME:MDT
DTSTART:20270314T090000
END:DAYLIGHT
BEGIN:STANDARD
TZOFFSETFROM:-0600
TZOFFSETTO:-0700
TZNAME:MST
DTSTART:20271107T080000
END:STANDARD
END:VTIMEZONE
BEGIN:VEVENT
DTSTART;TZID=America/Edmonton:20260228T190000
DTEND;TZID=America/Edmonton:20260228T213000
DTSTAMP:20260420T023601
CREATED:20260116T002208Z
LAST-MODIFIED:20260116T002208Z
UID:2098-1772305200-1772314200@www.skicrowsnest.ca
SUMMARY:Moonlight Ski
DESCRIPTION:Join us for a moonlight ski Saturday\, February 28th. The ski kicks off from the Allison Chinook parking lot at 7:00 pm. \nWe hope you can join us for a fun community event!
URL:https://www.skicrowsnest.ca/event/moonlight-ski-9/
CATEGORIES:Family Event,Social event
ATTACH;FMTTYPE=image/jpeg:https://www.skicrowsnest.ca/wp-content/uploads/2025/12/20251220_1000012741.jpg
END:VEVENT
END:VCALENDAR