BEGIN:VCALENDAR
VERSION:2.0
PRODID:-//Crowsnest Nordic Ski Club - ECPv6.15.17.1//NONSGML v1.0//EN
CALSCALE:GREGORIAN
METHOD:PUBLISH
X-WR-CALNAME:Crowsnest Nordic Ski Club
X-ORIGINAL-URL:https://www.skicrowsnest.ca
X-WR-CALDESC:Events for Crowsnest Nordic Ski Club
REFRESH-INTERVAL;VALUE=DURATION:PT1H
X-Robots-Tag:noindex
X-PUBLISHED-TTL:PT1H
BEGIN:VTIMEZONE
TZID:America/Edmonton
BEGIN:DAYLIGHT
TZOFFSETFROM:-0700
TZOFFSETTO:-0600
TZNAME:MDT
DTSTART:20250309T090000
END:DAYLIGHT
BEGIN:STANDARD
TZOFFSETFROM:-0600
TZOFFSETTO:-0700
TZNAME:MST
DTSTART:20251102T080000
END:STANDARD
BEGIN:DAYLIGHT
TZOFFSETFROM:-0700
TZOFFSETTO:-0600
TZNAME:MDT
DTSTART:20260308T090000
END:DAYLIGHT
BEGIN:STANDARD
TZOFFSETFROM:-0600
TZOFFSETTO:-0700
TZNAME:MST
DTSTART:20261101T080000
END:STANDARD
BEGIN:DAYLIGHT
TZOFFSETFROM:-0700
TZOFFSETTO:-0600
TZNAME:MDT
DTSTART:20270314T090000
END:DAYLIGHT
BEGIN:STANDARD
TZOFFSETFROM:-0600
TZOFFSETTO:-0700
TZNAME:MST
DTSTART:20271107T080000
END:STANDARD
END:VTIMEZONE
BEGIN:VEVENT
DTSTART;TZID=America/Edmonton:20260103T190000
DTEND;TZID=America/Edmonton:20260103T210000
DTSTAMP:20260420T041837
CREATED:20251212T013806Z
LAST-MODIFIED:20251212T013806Z
UID:1959-1767466800-1767474000@www.skicrowsnest.ca
SUMMARY:Moonlight Ski
DESCRIPTION:Our first moonlight ski of the season is scheduled for January 3rd. \nPlease join us at the Allison main parking area. The event will kick of at 7:00 pm. \nSpry is sponsoring the event and will be providing a popup refreshment stand offering hot chocolate or hot scratch electrolyte somewhere along the ski. Please bring you own cup. \nWe hope you can join us for a fun community event to help ring in the new year.
URL:https://www.skicrowsnest.ca/event/moonlight-ski-7/
CATEGORIES:Social event
ATTACH;FMTTYPE=image/jpeg:https://www.skicrowsnest.ca/wp-content/uploads/2025/12/Moonlight-Ski.jpg
END:VEVENT
BEGIN:VEVENT
DTSTART;TZID=America/Edmonton:20260131T190000
DTEND;TZID=America/Edmonton:20260131T213000
DTSTAMP:20260420T041837
CREATED:20260116T001655Z
LAST-MODIFIED:20260116T001655Z
UID:2094-1769886000-1769895000@www.skicrowsnest.ca
SUMMARY:Moonlight Ski
DESCRIPTION:Join us for a moonlight ski Saturday\, January 31st. The ski kicks off from the Allison Chinook parking lot at 7:00 pm. \nWe hope you can join us for a fun community event!
URL:https://www.skicrowsnest.ca/event/moonlight-ski-8/
LOCATION:Allison Chinook Ski trails\, Allison Cross Country ski\, AB\, T0K0M0\, Canada
CATEGORIES:Family Event,Social event
ATTACH;FMTTYPE=image/jpeg:https://www.skicrowsnest.ca/wp-content/uploads/2023/10/202303-Moonlight-ski.jpeg
END:VEVENT
END:VCALENDAR